BEGIN:VCALENDAR
VERSION:2.0
PRODID:-//Neetside - ECPv6.15.20//NONSGML v1.0//EN
CALSCALE:GREGORIAN
METHOD:PUBLISH
X-WR-CALNAME:Neetside
X-ORIGINAL-URL:https://neetside.co.uk
X-WR-CALDESC:Events for Neetside
REFRESH-INTERVAL;VALUE=DURATION:PT1H
X-Robots-Tag:noindex
X-PUBLISHED-TTL:PT1H
BEGIN:VTIMEZONE
TZID:Europe/London
BEGIN:DAYLIGHT
TZOFFSETFROM:+0000
TZOFFSETTO:+0100
TZNAME:BST
DTSTART:20220327T010000
END:DAYLIGHT
BEGIN:STANDARD
TZOFFSETFROM:+0100
TZOFFSETTO:+0000
TZNAME:GMT
DTSTART:20221030T010000
END:STANDARD
BEGIN:DAYLIGHT
TZOFFSETFROM:+0000
TZOFFSETTO:+0100
TZNAME:BST
DTSTART:20230326T010000
END:DAYLIGHT
BEGIN:STANDARD
TZOFFSETFROM:+0100
TZOFFSETTO:+0000
TZNAME:GMT
DTSTART:20231029T010000
END:STANDARD
BEGIN:DAYLIGHT
TZOFFSETFROM:+0000
TZOFFSETTO:+0100
TZNAME:BST
DTSTART:20240331T010000
END:DAYLIGHT
BEGIN:STANDARD
TZOFFSETFROM:+0100
TZOFFSETTO:+0000
TZNAME:GMT
DTSTART:20241027T010000
END:STANDARD
END:VTIMEZONE
BEGIN:VEVENT
DTSTART;TZID=Europe/London:20230914T180000
DTEND;TZID=Europe/London:20230914T193000
DTSTAMP:20260422T093256
CREATED:20230822T152304Z
LAST-MODIFIED:20230822T152304Z
UID:1089-1694714400-1694719800@neetside.co.uk
SUMMARY:Bereavement Café
DESCRIPTION:The new Bereavement Café is taking place on the 2nd Thursday of every month 6pm-7.30pm at the Neetside Community Centre in Bude as part of the community hub. \nThere will be tea/coffee and cake! The group is supported by a qualified counsellor\, Anita Knight. \nWhether your loss is recent\, or was a long time ago\, everyone is welcome to this community-led service. If you are able to make a donation towards running this\, it will be gratefully received\, however there is no pressure to do so. \nPlease help spread the word\, and we hope to see you there!
URL:https://neetside.co.uk/event/bereavement-cafe/
LOCATION:Neetside Community Centre\, Leven Road\, Bude\, EX23 8LB\, United Kingdom
END:VEVENT
END:VCALENDAR