BEGIN:VCALENDAR
VERSION:2.0
PRODID:-//Neetside - ECPv6.15.20//NONSGML v1.0//EN
CALSCALE:GREGORIAN
METHOD:PUBLISH
X-WR-CALNAME:Neetside
X-ORIGINAL-URL:https://neetside.co.uk
X-WR-CALDESC:Events for Neetside
REFRESH-INTERVAL;VALUE=DURATION:PT1H
X-Robots-Tag:noindex
X-PUBLISHED-TTL:PT1H
BEGIN:VTIMEZONE
TZID:Europe/London
BEGIN:DAYLIGHT
TZOFFSETFROM:+0000
TZOFFSETTO:+0100
TZNAME:BST
DTSTART:20230326T010000
END:DAYLIGHT
BEGIN:STANDARD
TZOFFSETFROM:+0100
TZOFFSETTO:+0000
TZNAME:GMT
DTSTART:20231029T010000
END:STANDARD
BEGIN:DAYLIGHT
TZOFFSETFROM:+0000
TZOFFSETTO:+0100
TZNAME:BST
DTSTART:20240331T010000
END:DAYLIGHT
BEGIN:STANDARD
TZOFFSETFROM:+0100
TZOFFSETTO:+0000
TZNAME:GMT
DTSTART:20241027T010000
END:STANDARD
BEGIN:DAYLIGHT
TZOFFSETFROM:+0000
TZOFFSETTO:+0100
TZNAME:BST
DTSTART:20250330T010000
END:DAYLIGHT
BEGIN:STANDARD
TZOFFSETFROM:+0100
TZOFFSETTO:+0000
TZNAME:GMT
DTSTART:20251026T010000
END:STANDARD
END:VTIMEZONE
BEGIN:VEVENT
DTSTART;TZID=Europe/London:20240301T100000
DTEND;TZID=Europe/London:20240301T120000
DTSTAMP:20260422T093251
CREATED:20240130T115207Z
LAST-MODIFIED:20240130T115207Z
UID:1548-1709287200-1709294400@neetside.co.uk
SUMMARY:Cuppa Companions
DESCRIPTION:Taking place at the Parkhouse centre every 1st and 3rd Friday from 10am – 12noon\, this is a friendly group with tea\, coffee and cake where everyone is welcome. Supported by the social prescriber\, it often includes guest speakers from local organisations\, mini health checks\, energy and other advice.
URL:https://neetside.co.uk/event/cuppa-companions-5/
LOCATION:Parkhouse Centre\, Ergue-Gaberic Way\, Bude\, Cornwall\, EX23 8LD\, United Kingdom
END:VEVENT
END:VCALENDAR